BEGIN:VCALENDAR
VERSION:2.0
PRODID:-//AIA Houston - ECPv6.15.18//NONSGML v1.0//EN
CALSCALE:GREGORIAN
METHOD:PUBLISH
X-WR-CALNAME:AIA Houston
X-ORIGINAL-URL:https://architecturehouston.org
X-WR-CALDESC:Events for AIA Houston
REFRESH-INTERVAL;VALUE=DURATION:PT1H
X-Robots-Tag:noindex
X-PUBLISHED-TTL:PT1H
BEGIN:VTIMEZONE
TZID:America/Chicago
BEGIN:DAYLIGHT
TZOFFSETFROM:-0600
TZOFFSETTO:-0500
TZNAME:CDT
DTSTART:20250309T080000
END:DAYLIGHT
BEGIN:STANDARD
TZOFFSETFROM:-0500
TZOFFSETTO:-0600
TZNAME:CST
DTSTART:20251102T070000
END:STANDARD
BEGIN:DAYLIGHT
TZOFFSETFROM:-0600
TZOFFSETTO:-0500
TZNAME:CDT
DTSTART:20260308T080000
END:DAYLIGHT
BEGIN:STANDARD
TZOFFSETFROM:-0500
TZOFFSETTO:-0600
TZNAME:CST
DTSTART:20261101T070000
END:STANDARD
BEGIN:DAYLIGHT
TZOFFSETFROM:-0600
TZOFFSETTO:-0500
TZNAME:CDT
DTSTART:20270314T080000
END:DAYLIGHT
BEGIN:STANDARD
TZOFFSETFROM:-0500
TZOFFSETTO:-0600
TZNAME:CST
DTSTART:20271107T070000
END:STANDARD
END:VTIMEZONE
BEGIN:VEVENT
DTSTART;TZID=America/Chicago:20260414T110000
DTEND;TZID=America/Chicago:20260414T133000
DTSTAMP:20260423T113446
CREATED:20260323T181124Z
LAST-MODIFIED:20260323T181637Z
UID:10000259-1776164400-1776173400@architecturehouston.org
SUMMARY:Lunch & Learn
DESCRIPTION:Free Event \nRSVP to Jenni Bagley\, 281.636.3036 | jenni@innovativesales.com
URL:https://architecturehouston.org/event/23901/
LOCATION:Lucas Cedar\, 12637 FM 830\, Willis\, 77318\, United States
CATEGORIES:Continuing Education
ORGANIZER;CN="Rhonda Lowe":MAILTO:rhonda@aiahouston.org
END:VEVENT
BEGIN:VEVENT
DTSTART;TZID=America/Chicago:20260414T170000
DTEND;TZID=America/Chicago:20260414T190000
DTSTAMP:20260423T113446
CREATED:20260330T203236Z
LAST-MODIFIED:20260330T211131Z
UID:10000261-1776186000-1776193200@architecturehouston.org
SUMMARY:Beyond the Hype
DESCRIPTION:Beyond the Hype: Practical Workplace Shifts in the Age of AI \nJoin Ryan Anderson\, Vice President of Global Research and Planning at MillerKnoll\, for an engaging conversation on how early Al adoption is reshaping the future of our physical workplaces. Drawing on MillerKnoll’s latest research and insights from leading Al practitioners\, Ryan will explore how Al is influencing team dynamics\, prompting a re-evaluation of established work processes\, and shaping MillerKnoll’s own Al journey. The session will also highlight how workplace design can better support Al adoption and strengthen team health\, offering practical insights for organizations navigating an Al-enabled future. \nAbout\nRyan Anderson\nWith nearly 30 years of experience in the contract furnishings industry\, Ryan is VP of Global Research and Planning at MillerKnoll. \nHis team focuses on helping organizations create more desirable\, productive\, and healthy work experiences for their people. \nThis event is free. You may RSVP on this site\, or by emailing Jamie Aragones here.
URL:https://architecturehouston.org/event/beyond-the-hype/
LOCATION:Architecture Center Houston\, 902 Commerce St.\, Houston\, TX\, 77002\, United States
ATTACH;FMTTYPE=image/jpeg:https://architecturehouston.org/wp-content/uploads/2026/03/Beyond-the-Hype-Medium.jpeg
END:VEVENT
BEGIN:VEVENT
DTSTART;TZID=America/Chicago:20260414T180000
DTEND;TZID=America/Chicago:20260414T200000
DTSTAMP:20260423T113446
CREATED:20260324T165117Z
LAST-MODIFIED:20260401T193003Z
UID:10000258-1776189600-1776196800@architecturehouston.org
SUMMARY:TertuLiAs: Designing the Everyday
DESCRIPTION:Join the Latinos in Architecture (LiA) Committee for an intimate TertuLiA a three-part series featuring leaders from diverse practice areas. The series highlights how Latino professionals are finding their voice\, contributing to the profession\, advocating for representation\, and uplifting the next generation\, from high school students to emerging architects. While reflecting on how Houston’s Latino population influences design and architectural work across the industry. \nFor our first 2026 TertuLiA\, we are focusing on residential\, design–build\, high-end\, and small commercial practices including Paul Benavente (Stella Maris Architecture)\, Luisa Aurrecoechea (LEAM Design + Build)\, Franco Albarran\, AIA (Albarran Architects) and Paola Rubio (Paola Rubio Design Studio). Starting the TertuLiAs series this year with residential design professionals offers meaningful benefits for us as Latinos in Architecture. Residential work remains one of the most accessible and community-connected areas of practice\, especially for early- and mid-career Latino designers. By learning from colleagues who specialize in residential\, design–build\, high end projects and small commercial\, we gain insight into project delivery methods\, client engagement\, and business development models that often lead to entrepreneurial opportunities\, pathways where Latinos have historically thrived. \nOf the over 121\,000 registered architects in the United States\, only 6 percent identify as Latino or Hispanic\, according to NCARB.  Latinos represent 19.1 percent of the total U.S. population\, the nation’s second largest ethnic group.  In Houston\, Latinos comprise 44.1 percent of the population. \nJoin us for this first 2026 session to hear about their experience\, their journey\, challenges\, successes\, and how they’ve shaped their practice. \nThis session will take place at one of LEAM Design + Build’s residential projects. \n\nAbout the Panelists \nFranco Albarran\, AIA\nFranco has extensive knowledge in Custom Residential Architectural Design and Construction. He also has an excellent construction discipline as he coordinates the interconnectivity of architecture and construction. His job site awareness brings a higher level of control through proactive steps that elevate the value of the project. Franco‘s passion for design and construction have led him to be fully engaged in both disciplines of architecture and construction. He feels both disciplines are interconnected and provide feedback for one another. \nLuisa Aurrecoechea\, LEED AP BD+C\nLuisa Aurrecoechea is the founder and principal of LEAM Design Build\, a Houston-based design and construction firm specializing in custom residential architecture and interior design. Originally from Venezuela\, Luisa earned her architecture degree in Caracas and later completed a Master’s degree at the University of Oklahoma and a furniture design degree at the University of Buenos Aires. \nShe began her career working on a wide range of commercial and institutional projects in the United States\, including schools\, theaters\, and large-scale developments. After years in commercial architecture\, she founded her own firm to design and build thoughtfully crafted homes that blend sustainability\, practicality\, and contemporary design. \nWith over a decade of professional experience\, Luisa is passionate about guiding clients through the entire process\, from concept and design to construction\, creating homes and interiors that are both beautiful and functional. Her work emphasizes efficient building methods\, strong collaboration with clients and builders\, and spaces that support the way families live today. \nPaul Benavente\nPaul Benavente owns and operates Stella Maris Architecture\, which is located within a NASA-era building across from Space Center Houston.  He and a long-term architecture colleague serve projects in light commercial\, residential\, and institutional sectors. Paul earned degrees in Architecture and Scholastic Philosophy in 2002 and 2007\, respectively. He possesses licenses in Texas and New Mexico. \nPaul finds inspiration in domestic and international travel\, making each vacation a “study trip” in architecture.  Both Instagram and the office photo document these inspiring moments in architecture.  His education in philosophy is foundational to his practice.  The firm’s motto derives from a perennial understanding of beauty in created work: “Beauty as a Discipline of Architectural Practice.”  A study of architecture explained according to philosophical principles was nationally published in Palladiana\, 2020\, and continues to be a source of education passed on to students.  The craft of building is a passion.  Paul has visited fabrication shops of various trades and has organized open house events for trades such as terrazzo and decorative plaster. \nPaola Rubio\nPaola Rubio is the Founder and Creative Director of Paola Rubio Design Studio\, a Houston-based boutique interior design studio specializing in high-impact commercial and hospitality environments. Born and raised in Veracruz\, Mexico\, Paola began her career in architecture\, graduating with honors from the National Technological Institute of Mexico before relocating to Houston to pursue her passion for interior design. \nShe began her U.S. career at a high-end residential design firm\, where she developed a strong foundation in luxury detailing and refined aesthetics. Driven by a deeper passion for experiential spaces\, Paola transitioned into the commercial sector\, serving as Design Director at a design-build firm known for delivering complex\, high-end projects. \nNow leading her own studio\, Paola focuses on creating thoughtful\, brand-driven environments that elevate the user experience. Her work reflects a balance between creative vision and real-world execution\, shaped by her design-to-build approach. She is currently pursuing her NCIDQ certification while continuing to expand her growing portfolio of commercial projects across Texas.
URL:https://architecturehouston.org/event/tertulias-designing-the-everyday/
LOCATION:LEAM Project Site\, 1226 Krist Dr\, Houston\, TX\, 77055\, United States
CATEGORIES:Latinos in Architecture Committee
ATTACH;FMTTYPE=image/jpeg:https://architecturehouston.org/wp-content/uploads/2026/03/Calendar-4.jpg
ORGANIZER;CN="Jennifer Ward":MAILTO:jennifer@aiahouston.org
END:VEVENT
BEGIN:VEVENT
DTSTART;TZID=America/Chicago:20260418T090000
DTEND;TZID=America/Chicago:20260418T110000
DTSTAMP:20260423T113446
CREATED:20260121T211634Z
LAST-MODIFIED:20260410T162726Z
UID:10000224-1776502800-1776510000@architecturehouston.org
SUMMARY:Texas Medical Center Walking Tour
DESCRIPTION:The Texas Medical Center is the largest medical center in the world. Equivalent to the 8th largest business district in the United States\, TMC has over 50 million square feet of patient care\, education\, and research space. 160\,000+ individuals visit the Texas Medical Center each day with more than 6 million patients treated annually. The 1000+ acres is approximately the size of Chicago inside the “Loop” with over 160 buildings on the main campus alone. Join our ArCH docents on this introductory architectural tour of Houston’s own modern marvel of medicine. Sites on our tour will include Baylor College of Medicine\, the new Texas Children’s Hospital Maternity Center\, MD Anderson Cancer Center and Methodist Research Center. \nMeet in the ground floor lobby of the John P McGovern Commons Building\, 6550 Bertner Ave\, 77030. Texas Medical Center Entrance 4 and $13 parking available in the TMC Commons parking garage. \nThe tour is sold out. Please visit our calendar for upcoming events. \n  \nAIA Credit: 2.0 LU \nCourse Number: TMCWT1 \nAIA MEMBERS PLEASE NOTE: \nPer AIA National CE Standards\, any learning program approved for AIA Learning Units may award CE credit for the approved program for up to (3) years from the date of approval so long as the CES Provider is in good standing. AIA Members may repeat the same course\, but no additional credit will be granted or recorded.
URL:https://architecturehouston.org/event/texas-medical-center-walking-tour-5/
LOCATION:John P. McGovern Commons Building\, 6550 Bertner Ave\, Houston\, TX\, 77030
CATEGORIES:ArCH Tours Committee,Continuing Education
ATTACH;FMTTYPE=image/jpeg:https://architecturehouston.org/wp-content/uploads/2024/12/TMC-Walking-Tour_web.jpg
ORGANIZER;CN="Jennifer Ward":MAILTO:jennifer@aiahouston.org
END:VEVENT
BEGIN:VEVENT
DTSTART;TZID=America/Chicago:20260418T100000
DTEND;TZID=America/Chicago:20260418T140000
DTSTAMP:20260423T113446
CREATED:20260325T035215Z
LAST-MODIFIED:20260325T153556Z
UID:10000260-1776506400-1776520800@architecturehouston.org
SUMMARY:The Haven: Designing for Community and Disaster
DESCRIPTION:Join us for a day of imagination and creation with the National Organization of Minority Architects\, Houston’s Project Pipeline\, and Architecture Center Houston’s Kids+ Architecture Committee. \nLiving in the Bayou City\, we are used to experiencing flooding\, hurricanes\, strong winds\, and freezes that can cause our homes to lose power or damage them. During these events\, many families are in need of an emergency shelter that can provide a warm bed\, healthy meals and activities for kids. \nAspiring student architects will be challenged with designing their own “Haven”:  a community center\, which can act as an emergency shelter in times of need. \nCommunity centers can be designed around a hobby or favorite activity. Imagine an indoor skateboard park\, a musical instrument playground\, or suspended gaming stations. And\, on the flipside\, when disaster strikes and the lights go out\, the community needs a place that keeps everyone safe and comfortable. \nStudents will be led through a series of design exercises\, be able to identify storm-resistant building features\, take a tour of their site\, and design their own Haven\, a community center that could function as an emergency shelter. The Haven will be based on a theme of their choosing. \nThe workshop will be held at the Alief Neighborhood Center\, a civic hub that brings together city services and community activities under one roof. Raised above the floodplain\, it serves as both a dynamic community anchor and a safe refuge during high-water events. \nAdditional information about the class: \n\nStudents will work in teams.\nStudents will come away with an understanding of basic architectural concepts.\nStudents will tour the Alief Neighborhood Center and understand how it supports the community daily and during times of disaster.\nTeams will present their designs to the group\, explaining features and design decisions.\nArchitects & designers will be on hand to guide participants\, answer questions\, and share experiences.\nLunch will be provided.\n\nThis interactive event is perfect for students who are currently in 4th-6th grade who are excited to explore the world of architecture and unleash their creativity. Through fun activities and teamwork\, participants will learn how to design while developing essential skills in problem-solving and collaboration. Join us for a morning of excitement & inspiration as we build dreams and foster the next generation of architects! \nThis workshop is generously sponsored by AIA National and the National Organization of Minority Architects\, Houston. \nAll parents/guardians must complete the student registration form for their student to participate in the workshop. The student registration form can be found here 
URL:https://architecturehouston.org/event/the-haven-designing-for-community-and-disaster/
LOCATION:Alief Neighborhood Center\, 11903 Bellaire Blvd\, Houston\, TX\, 77072\, United States
CATEGORIES:Kids and Architecture Committee
ATTACH;FMTTYPE=image/jpeg:https://architecturehouston.org/wp-content/uploads/2026/03/The-Haven-scaled.jpg
ORGANIZER;CN="Jennifer Ward":MAILTO:jennifer@aiahouston.org
END:VEVENT
BEGIN:VEVENT
DTSTART;TZID=America/Chicago:20260418T103000
DTEND;TZID=America/Chicago:20260418T123000
DTSTAMP:20260423T113446
CREATED:20260128T194831Z
LAST-MODIFIED:20260128T194831Z
UID:10000229-1776508200-1776515400@architecturehouston.org
SUMMARY:Columbia Tap Trail Bicycle Tour
DESCRIPTION:Houston’s Third Ward is a culturally rich\, historically African-American neighborhood\, that includes Texas Southern University (HBCU)\, The University of Houston (Tier 1)\, Emancipation Park\, and numerous other cultural gems. One of those is the Columbia Tap Trail\, completed in 2009\, which sits atop the abandoned Columbia Tap railroad route – originally built by enslaved people to transport cotton and sugar from Plantation to Port.  The trail connects adjacent neighborhoods and serves as a vital link in the growing Houston trail system. \nJoin us to bike along the Columbia Tap Trail\, to learn more about the trail history and identity\, safety prioritizations\, culture of the neighborhoods adjacent to the trail\, and local artists. \nBike Rental\, Meeting Location and Times\nIndividuals can rent bikes through the Eado Bike Company at 912 Saint Charles St.\, Houston TX 77003. Please arrive at 10am to pick up your bike. The tour will start at 10:30am. \nFor those bringing their personal bikes\, please join us at Eado. We will be ready to roll at exactly 10:30 am – so don’t be late! \nAIA Credit: 1.5 HSW
URL:https://architecturehouston.org/event/columbia-tap-trail-bicycle-tour-2/
LOCATION:Eado Bike Company\, 912 St Charles St\, Houston\, Texas\, 77003
CATEGORIES:ArCH Tours Committee,Continuing Education
ATTACH;FMTTYPE=image/jpeg:https://architecturehouston.org/wp-content/uploads/2026/01/ColumbiaTap_1_web-scaled.jpg
ORGANIZER;CN="Jennifer Ward":MAILTO:jennifer@aiahouston.org
END:VEVENT
END:VCALENDAR